BEGIN:VCALENDAR
VERSION:2.0
PRODID:-//Color House Graphics, Inc. - ECPv6.15.20//NONSGML v1.0//EN
CALSCALE:GREGORIAN
METHOD:PUBLISH
X-ORIGINAL-URL:https://colorhousegraphics.com
X-WR-CALDESC:Events for Color House Graphics, Inc.
REFRESH-INTERVAL;VALUE=DURATION:PT1H
X-Robots-Tag:noindex
X-PUBLISHED-TTL:PT1H
BEGIN:VTIMEZONE
TZID:UTC
BEGIN:STANDARD
TZOFFSETFROM:+0000
TZOFFSETTO:+0000
TZNAME:UTC
DTSTART:20240101T000000
END:STANDARD
END:VTIMEZONE
BEGIN:VEVENT
DTSTART;VALUE=DATE:20250501
DTEND;VALUE=DATE:20250503
DTSTAMP:20260420T193343
CREATED:20241104T114737Z
LAST-MODIFIED:20241104T114737Z
UID:8783-1746057600-1746230399@colorhousegraphics.com
SUMMARY:ACP/PCPA Joint Conference
DESCRIPTION:
URL:https://colorhousegraphics.com/event/acp-pcpa-joint-conference/
LOCATION:Marriott\, Naperville\, Illinois
END:VEVENT
BEGIN:VEVENT
DTSTART;VALUE=DATE:20250515
DTEND;VALUE=DATE:20250518
DTSTAMP:20260420T193343
CREATED:20241104T114511Z
LAST-MODIFIED:20241104T114804Z
UID:8781-1747267200-1747526399@colorhousegraphics.com
SUMMARY:IBPA Publishing University
DESCRIPTION:
URL:https://colorhousegraphics.com/event/ibpa-publishing-university-4/
LOCATION:Intercontinental Saint Paul Riverfront\, Saint Paul\, Minnesota
END:VEVENT
END:VCALENDAR